BEGIN:VCALENDAR
VERSION:2.0
PRODID:-//Berlin - FUSS e.V. - ECPv6.15.20//NONSGML v1.0//EN
CALSCALE:GREGORIAN
METHOD:PUBLISH
X-WR-CALNAME:Berlin - FUSS e.V.
X-ORIGINAL-URL:https://www.fuss-ev.de/berlin
X-WR-CALDESC:Veranstaltungen für Berlin - FUSS e.V.
REFRESH-INTERVAL;VALUE=DURATION:PT1H
X-Robots-Tag:noindex
X-PUBLISHED-TTL:PT1H
BEGIN:VTIMEZONE
TZID:Europe/Berlin
BEGIN:DAYLIGHT
TZOFFSETFROM:+0100
TZOFFSETTO:+0200
TZNAME:CEST
DTSTART:20250330T010000
END:DAYLIGHT
BEGIN:STANDARD
TZOFFSETFROM:+0200
TZOFFSETTO:+0100
TZNAME:CET
DTSTART:20251026T010000
END:STANDARD
BEGIN:DAYLIGHT
TZOFFSETFROM:+0100
TZOFFSETTO:+0200
TZNAME:CEST
DTSTART:20260329T010000
END:DAYLIGHT
BEGIN:STANDARD
TZOFFSETFROM:+0200
TZOFFSETTO:+0100
TZNAME:CET
DTSTART:20261025T010000
END:STANDARD
BEGIN:DAYLIGHT
TZOFFSETFROM:+0100
TZOFFSETTO:+0200
TZNAME:CEST
DTSTART:20270328T010000
END:DAYLIGHT
BEGIN:STANDARD
TZOFFSETFROM:+0200
TZOFFSETTO:+0100
TZNAME:CET
DTSTART:20271031T010000
END:STANDARD
END:VTIMEZONE
BEGIN:VEVENT
DTSTART;TZID=Europe/Berlin:20260131T140000
DTEND;TZID=Europe/Berlin:20260131T160000
DTSTAMP:20260425T220248
CREATED:20260108T112825Z
LAST-MODIFIED:20260201T115311Z
UID:5666-1769868000-1769875200@www.fuss-ev.de
SUMMARY:Landes-Mitgliederversammlung
DESCRIPTION:Sie findet am 31. Januar ab 14 Uhr in der Stadtwerkstatt (Karl-Liebknecht-Str. 11\, U- und S-Bahn Alexanderplatz) statt.
URL:https://www.fuss-ev.de/berlin/event/landes-mitgliederversammlung/
LOCATION:Stadtwerkstatt\, Karl-Liebknecht-Str. 11
CATEGORIES:berlinweit
END:VEVENT
END:VCALENDAR