BEGIN:VCALENDAR
VERSION:2.0
PRODID:-//Berlin - FUSS e.V. - ECPv6.15.20//NONSGML v1.0//EN
CALSCALE:GREGORIAN
METHOD:PUBLISH
X-ORIGINAL-URL:https://www.fuss-ev.de/berlin
X-WR-CALDESC:Veranstaltungen für Berlin - FUSS e.V.
REFRESH-INTERVAL;VALUE=DURATION:PT1H
X-Robots-Tag:noindex
X-PUBLISHED-TTL:PT1H
BEGIN:VTIMEZONE
TZID:Europe/Berlin
BEGIN:DAYLIGHT
TZOFFSETFROM:+0100
TZOFFSETTO:+0200
TZNAME:CEST
DTSTART:20250330T010000
END:DAYLIGHT
BEGIN:STANDARD
TZOFFSETFROM:+0200
TZOFFSETTO:+0100
TZNAME:CET
DTSTART:20251026T010000
END:STANDARD
BEGIN:DAYLIGHT
TZOFFSETFROM:+0100
TZOFFSETTO:+0200
TZNAME:CEST
DTSTART:20260329T010000
END:DAYLIGHT
BEGIN:STANDARD
TZOFFSETFROM:+0200
TZOFFSETTO:+0100
TZNAME:CET
DTSTART:20261025T010000
END:STANDARD
BEGIN:DAYLIGHT
TZOFFSETFROM:+0100
TZOFFSETTO:+0200
TZNAME:CEST
DTSTART:20270328T010000
END:DAYLIGHT
BEGIN:STANDARD
TZOFFSETFROM:+0200
TZOFFSETTO:+0100
TZNAME:CET
DTSTART:20271031T010000
END:STANDARD
END:VTIMEZONE
BEGIN:VEVENT
DTSTART;TZID=Europe/Berlin:20260425T150000
DTEND;TZID=Europe/Berlin:20260425T170000
DTSTAMP:20260419T183222
CREATED:20260321T164906Z
LAST-MODIFIED:20260321T164906Z
UID:5875-1777129200-1777136400@www.fuss-ev.de
SUMMARY:Walk & Talk durch Friedrichshain: Auf den Grünen Hauptwegen unterwegs
DESCRIPTION:Am 25.04. (Samstag\, 15 Uhr) laden wir zu einem gemeinsamen Spaziergang auf den Grünen Hauptwegen Berlin ein!Wir starten am Strausberger Platz und folgen dem Hauptweg 19 (Tiergartenring) Richtung Norden bis zum Volkspark Friedrichshain. Dort wechseln wir auf den Grünen Hauptweg 7 (Hönower Weg)\, der am Märchenbrunnen im Park beginnt\, und laufen weiter durch den Park und über den Arnswalder Platz. Zum Abschluss geht es durch den Anton-Saefkow-Park und auf einem kurzen Abschnitt des Grünen Hauptwegs 18 (Innerer Parkring) bis zur S-Bahn Greifswalder Straße. \nDie Strecke ist ca. 3\,8 km lang und für alle Interessierten offen. Kommt vorbei\, spaziert mit\, tauscht euch aus und erlebt Berlin barrierefrei!
URL:https://www.fuss-ev.de/berlin/event/walk-talk-durch-friedrichshain-auf-den-gruenen-hauptwegen-unterwegs/
LOCATION:Strausberger Platz\, Strausberger Platz 6\, Berlin\, 10243\, Germany
CATEGORIES:spaziergaenge
ATTACH;FMTTYPE=image/png:https://www.fuss-ev.de/berlin/wp-content/uploads/sites/6/2026/03/walkAndTalkGreen-e1774111239918.png
END:VEVENT
END:VCALENDAR