BEGIN:VCALENDAR
VERSION:2.0
PRODID:-//Berlin - FUSS e.V. - ECPv6.15.20//NONSGML v1.0//EN
CALSCALE:GREGORIAN
METHOD:PUBLISH
X-WR-CALNAME:Berlin - FUSS e.V.
X-ORIGINAL-URL:https://www.fuss-ev.de/berlin
X-WR-CALDESC:Veranstaltungen für Berlin - FUSS e.V.
REFRESH-INTERVAL;VALUE=DURATION:PT1H
X-Robots-Tag:noindex
X-PUBLISHED-TTL:PT1H
BEGIN:VTIMEZONE
TZID:Europe/Berlin
BEGIN:DAYLIGHT
TZOFFSETFROM:+0100
TZOFFSETTO:+0200
TZNAME:CEST
DTSTART:20250330T010000
END:DAYLIGHT
BEGIN:STANDARD
TZOFFSETFROM:+0200
TZOFFSETTO:+0100
TZNAME:CET
DTSTART:20251026T010000
END:STANDARD
BEGIN:DAYLIGHT
TZOFFSETFROM:+0100
TZOFFSETTO:+0200
TZNAME:CEST
DTSTART:20260329T010000
END:DAYLIGHT
BEGIN:STANDARD
TZOFFSETFROM:+0200
TZOFFSETTO:+0100
TZNAME:CET
DTSTART:20261025T010000
END:STANDARD
BEGIN:DAYLIGHT
TZOFFSETFROM:+0100
TZOFFSETTO:+0200
TZNAME:CEST
DTSTART:20270328T010000
END:DAYLIGHT
BEGIN:STANDARD
TZOFFSETFROM:+0200
TZOFFSETTO:+0100
TZNAME:CET
DTSTART:20271031T010000
END:STANDARD
END:VTIMEZONE
BEGIN:VEVENT
DTSTART;TZID=Europe/Berlin:20260624T170000
DTEND;TZID=Europe/Berlin:20260624T183000
DTSTAMP:20260419T214853
CREATED:20260215T174120Z
LAST-MODIFIED:20260217T222751Z
UID:5794-1782320400-1782325800@www.fuss-ev.de
SUMMARY:FußRat Tempelhof-Schöneberg
DESCRIPTION:Der Fuß-Rat tagt 3x jährlich öffentlich und berät das Bezirksamt. Weitere Informationen über seine Zusammensetzung und seine Funktion finden Sie auf den Seiten des Bezirks Tempelhof-Schöneberg unter https://www.berlin.de/ba-tempelhof-schoeneberg/politik-und-verwaltung/gremien-und-ansprechpersonen/fuss-rat/
URL:https://www.fuss-ev.de/berlin/event/fussrat-tempelhof-schoeneberg-2/
LOCATION:Rathaus Schöneberg\, John-F.-Kennedy-Platz 1\, Berlin\, 10825\, Germany
CATEGORIES:bezirke
ORGANIZER;CN="Bezirksamt Tempelhof-Sch%C3%B6neberg":MAILTO:kontakt-osgruenun@ba-ts.berlin.de
END:VEVENT
END:VCALENDAR