BEGIN:VCALENDAR
VERSION:2.0
PRODID:-//Berlin - FUSS e.V. - ECPv6.15.20//NONSGML v1.0//EN
CALSCALE:GREGORIAN
METHOD:PUBLISH
X-WR-CALNAME:Berlin - FUSS e.V.
X-ORIGINAL-URL:https://www.fuss-ev.de/berlin
X-WR-CALDESC:Veranstaltungen für Berlin - FUSS e.V.
REFRESH-INTERVAL;VALUE=DURATION:PT1H
X-Robots-Tag:noindex
X-PUBLISHED-TTL:PT1H
BEGIN:VTIMEZONE
TZID:Europe/Berlin
BEGIN:DAYLIGHT
TZOFFSETFROM:+0100
TZOFFSETTO:+0200
TZNAME:CEST
DTSTART:20250330T010000
END:DAYLIGHT
BEGIN:STANDARD
TZOFFSETFROM:+0200
TZOFFSETTO:+0100
TZNAME:CET
DTSTART:20251026T010000
END:STANDARD
BEGIN:DAYLIGHT
TZOFFSETFROM:+0100
TZOFFSETTO:+0200
TZNAME:CEST
DTSTART:20260329T010000
END:DAYLIGHT
BEGIN:STANDARD
TZOFFSETFROM:+0200
TZOFFSETTO:+0100
TZNAME:CET
DTSTART:20261025T010000
END:STANDARD
BEGIN:DAYLIGHT
TZOFFSETFROM:+0100
TZOFFSETTO:+0200
TZNAME:CEST
DTSTART:20270328T010000
END:DAYLIGHT
BEGIN:STANDARD
TZOFFSETFROM:+0200
TZOFFSETTO:+0100
TZNAME:CET
DTSTART:20271031T010000
END:STANDARD
END:VTIMEZONE
BEGIN:VEVENT
DTSTART;TZID=Europe/Berlin:20260530T110000
DTEND;TZID=Europe/Berlin:20260530T150000
DTSTAMP:20260419T214428
CREATED:20260315T222253Z
LAST-MODIFIED:20260410T144706Z
UID:5856-1780138800-1780153200@www.fuss-ev.de
SUMMARY:Grüner Hauptweg #15
DESCRIPTION:Am 30. Mai setzen wir unsere Erkundung der Grünen Hauptwege fort. Bei dem Spaziergang Ende Mai wird ein Stück des Hauptwegs Nr. 15\, der Teltower Dörferweg\, abgegangen. Informationen zu diesem Weg findet ihr auf der Seite der Senatsverwaltung hier. \nDer Spaziergang findet unter dem Motto “Urbane Grünzüge am Stadtrand – Marienfelde und Lichtenrade” statt. Der Weg führt uns von der Haltestelle Sondershauser Straße über den  Lichterfelder Ring\, die Großwohnsiedlung Waldsassener Straße\, den  Schlehenberg\, den Freizeitpark Marienfelde\, den Güterbahnaußenring\, die Baumalleen und Durchwegungen in Lichtenrade\, die Buckower Feldmark und endet an der Haltestelle Delmer Steig. \nLos geht es am Samstag\, den 30. Mai um 11 Uhr an der Haltestelle Sondershauser Straße. Den Flyer mit allen weiteren Informationen finden Sie hier im pdf-Format.
URL:https://www.fuss-ev.de/berlin/event/gruener-hauptweg-15/
LOCATION:Haltestelle Sondershauser Straße\, 12209
CATEGORIES:spaziergaenge
ORGANIZER;CN="FUSS e.V. Tempelhof-Sch%C3%B6neberg":MAILTO:ts-berlin@fuss-ev.de
END:VEVENT
END:VCALENDAR